BEGIN:VCALENDAR
VERSION:2.0
PRODID:-//Rotary Club of Mordialloc Mentone - ECPv6.15.20//NONSGML v1.0//EN
CALSCALE:GREGORIAN
METHOD:PUBLISH
X-ORIGINAL-URL:https://mordiallocrotary.org.au
X-WR-CALDESC:Events for Rotary Club of Mordialloc Mentone
REFRESH-INTERVAL;VALUE=DURATION:PT1H
X-Robots-Tag:noindex
X-PUBLISHED-TTL:PT1H
BEGIN:VTIMEZONE
TZID:Australia/Melbourne
BEGIN:STANDARD
TZOFFSETFROM:+1100
TZOFFSETTO:+1000
TZNAME:AEST
DTSTART:20110402T160000
END:STANDARD
BEGIN:DAYLIGHT
TZOFFSETFROM:+1000
TZOFFSETTO:+1100
TZNAME:AEDT
DTSTART:20111001T160000
END:DAYLIGHT
BEGIN:STANDARD
TZOFFSETFROM:+1100
TZOFFSETTO:+1000
TZNAME:AEST
DTSTART:20120331T160000
END:STANDARD
BEGIN:DAYLIGHT
TZOFFSETFROM:+1000
TZOFFSETTO:+1100
TZNAME:AEDT
DTSTART:20121006T160000
END:DAYLIGHT
BEGIN:STANDARD
TZOFFSETFROM:+1100
TZOFFSETTO:+1000
TZNAME:AEST
DTSTART:20130406T160000
END:STANDARD
BEGIN:DAYLIGHT
TZOFFSETFROM:+1000
TZOFFSETTO:+1100
TZNAME:AEDT
DTSTART:20131005T160000
END:DAYLIGHT
BEGIN:STANDARD
TZOFFSETFROM:+1100
TZOFFSETTO:+1000
TZNAME:AEST
DTSTART:20140405T160000
END:STANDARD
BEGIN:DAYLIGHT
TZOFFSETFROM:+1000
TZOFFSETTO:+1100
TZNAME:AEDT
DTSTART:20141004T160000
END:DAYLIGHT
END:VTIMEZONE
BEGIN:VEVENT
DTSTART;TZID=Australia/Melbourne:20130514T180000
DTEND;TZID=Australia/Melbourne:20130514T200000
DTSTAMP:20260421T215423
CREATED:20130421T063157Z
LAST-MODIFIED:20130421T063157Z
UID:768-1368554400-1368561600@mordiallocrotary.org.au
SUMMARY:Clu Meeting
DESCRIPTION:
URL:https://mordiallocrotary.org.au/event/clu-meeting/
LOCATION:Mordialloc Sporting Club\, Select a Country:
CATEGORIES:Weekly meetings
END:VEVENT
BEGIN:VEVENT
DTSTART;TZID=Australia/Melbourne:20130507T180000
DTEND;TZID=Australia/Melbourne:20130507T200000
DTSTAMP:20260421T215423
CREATED:20130414T082113Z
LAST-MODIFIED:20130414T082113Z
UID:759-1367949600-1367956800@mordiallocrotary.org.au
SUMMARY:Club meeting
DESCRIPTION:Guest speaker:  Jackie Gleeson “Rotarians against Malaria”
URL:https://mordiallocrotary.org.au/event/club-meeting-20/
LOCATION:Mordialloc Sporting Club\, Select a Country:
CATEGORIES:Weekly meetings
END:VEVENT
BEGIN:VEVENT
DTSTART;TZID=Australia/Melbourne:20130430T180000
DTEND;TZID=Australia/Melbourne:20130430T200000
DTSTAMP:20260421T215423
CREATED:20130414T081935Z
LAST-MODIFIED:20130414T081935Z
UID:758-1367344800-1367352000@mordiallocrotary.org.au
SUMMARY:Club meeting
DESCRIPTION:Guest speaker:  Daniela Danny “Youth Connect”
URL:https://mordiallocrotary.org.au/event/club-meeting-19/
LOCATION:Mordialloc Sporting Club\, Select a Country:
CATEGORIES:Weekly meetings
END:VEVENT
BEGIN:VEVENT
DTSTART;TZID=Australia/Melbourne:20130423T180000
DTEND;TZID=Australia/Melbourne:20130423T200000
DTSTAMP:20260421T215423
CREATED:20130401T110756Z
LAST-MODIFIED:20130401T110756Z
UID:741-1366740000-1366747200@mordiallocrotary.org.au
SUMMARY:Club meeting
DESCRIPTION:Guest Speaker: Gary dram – ‘Policing in our community”
URL:https://mordiallocrotary.org.au/event/club-meeting-18/
LOCATION:Mordialloc Sporting Club\, Select a Country:
CATEGORIES:Weekly meetings
END:VEVENT
BEGIN:VEVENT
DTSTART;TZID=Australia/Melbourne:20130416T180000
DTEND;TZID=Australia/Melbourne:20130416T200000
DTSTAMP:20260421T215423
CREATED:20130401T110643Z
LAST-MODIFIED:20130401T110643Z
UID:740-1366135200-1366142400@mordiallocrotary.org.au
SUMMARY:Club meeting
DESCRIPTION:Speaker;  Mal Cator 9mentone Grammar School – “Students in the Future”
URL:https://mordiallocrotary.org.au/event/club-meeting-17/
LOCATION:Mordialloc Sporting Club\, Select a Country:
CATEGORIES:Weekly meetings
END:VEVENT
BEGIN:VEVENT
DTSTART;TZID=Australia/Melbourne:20130409T180000
DTEND;TZID=Australia/Melbourne:20130409T200000
DTSTAMP:20260421T215423
CREATED:20130401T110522Z
LAST-MODIFIED:20130401T110522Z
UID:739-1365530400-1365537600@mordiallocrotary.org.au
SUMMARY:Club meeting
DESCRIPTION:Speaker: Lorriane Knight – “Pre-planning funerals”
URL:https://mordiallocrotary.org.au/event/club-meeting-16/
LOCATION:Mordialloc Sporting Club\, Select a Country:
CATEGORIES:Weekly meetings
END:VEVENT
BEGIN:VEVENT
DTSTART;TZID=Australia/Melbourne:20130402T180000
DTEND;TZID=Australia/Melbourne:20130402T200000
DTSTAMP:20260421T215423
CREATED:20130401T110359Z
LAST-MODIFIED:20130401T110359Z
UID:738-1364925600-1364932800@mordiallocrotary.org.au
SUMMARY:Club meeting
DESCRIPTION:Subject: Club Forum
URL:https://mordiallocrotary.org.au/event/club-meeting-15/
LOCATION:Mordialloc Sporting Club\, Select a Country:
CATEGORIES:Weekly meetings
END:VEVENT
BEGIN:VEVENT
DTSTART;TZID=Australia/Melbourne:20130326T180000
DTEND;TZID=Australia/Melbourne:20130326T200000
DTSTAMP:20260421T215423
CREATED:20130306T043210Z
LAST-MODIFIED:20130306T043210Z
UID:684-1364320800-1364328000@mordiallocrotary.org.au
SUMMARY:Club Meeting
DESCRIPTION:Speaker: Gaynor Schols   Rotary Oceania Medical Aid for Childen
URL:https://mordiallocrotary.org.au/event/club-meeting-14/
LOCATION:Mordialloc Sporting Club\, Select a Country:
CATEGORIES:Weekly meetings
END:VEVENT
BEGIN:VEVENT
DTSTART;TZID=Australia/Melbourne:20130319T180000
DTEND;TZID=Australia/Melbourne:20130319T200000
DTSTAMP:20260421T215423
CREATED:20130306T042726Z
LAST-MODIFIED:20130306T093333Z
UID:682-1363716000-1363723200@mordiallocrotary.org.au
SUMMARY:Club Meeting
DESCRIPTION:Speaker: TBA
URL:https://mordiallocrotary.org.au/event/club-meeting-13/
LOCATION:Mordialloc Sporting Club\, Select a Country:
CATEGORIES:Weekly meetings
END:VEVENT
BEGIN:VEVENT
DTSTART;VALUE=DATE:20130315
DTEND;VALUE=DATE:20130318
DTSTAMP:20260421T215423
CREATED:20130306T043611Z
LAST-MODIFIED:20130306T043833Z
UID:685-1363305600-1363564799@mordiallocrotary.org.au
SUMMARY:Rotary District 9810 Conference
DESCRIPTION:For further infornmation about the conference\, please click on the following link: \nDistrict 9810 Conference 2013
URL:https://mordiallocrotary.org.au/event/rotary-district-9810-conference/
LOCATION:Wangaratta Performing Arts Centre\, 33 Ford Street\, Wangaratta\, Victoria\, 3677\, Australia
CATEGORIES:Other Events
END:VEVENT
BEGIN:VEVENT
DTSTART;TZID=Australia/Melbourne:20130312T180000
DTEND;TZID=Australia/Melbourne:20130312T200000
DTSTAMP:20260421T215423
CREATED:20130306T042557Z
LAST-MODIFIED:20130306T093308Z
UID:681-1363111200-1363118400@mordiallocrotary.org.au
SUMMARY:Club Meeting
DESCRIPTION:Speaker: Jack Pyziakos  “A Walk in Spain”
URL:https://mordiallocrotary.org.au/event/club-meeting-12/
LOCATION:Mordialloc Sporting Club\, Select a Country:
CATEGORIES:Weekly meetings
END:VEVENT
BEGIN:VEVENT
DTSTART;TZID=Australia/Melbourne:20130205T180000
DTEND;TZID=Australia/Melbourne:20130205T200000
DTSTAMP:20260421T215423
CREATED:20130115T035205Z
LAST-MODIFIED:20130115T035238Z
UID:547-1360087200-1360094400@mordiallocrotary.org.au
SUMMARY:Club meeting
DESCRIPTION:Topic: The Kingston Koorie Mob
URL:https://mordiallocrotary.org.au/event/club-meeting-4/
LOCATION:Mordialloc Sporting Club\, Select a Country:
CATEGORIES:Weekly meetings
END:VEVENT
BEGIN:VEVENT
DTSTART;TZID=Australia/Melbourne:20130203T120000
DTEND;TZID=Australia/Melbourne:20130203T160000
DTSTAMP:20260421T215423
CREATED:20130115T041514Z
LAST-MODIFIED:20130115T041514Z
UID:554-1359892800-1359907200@mordiallocrotary.org.au
SUMMARY:Club Social Day
DESCRIPTION:For current and past members and families
URL:https://mordiallocrotary.org.au/event/club-social-day/
LOCATION:Jack Cooper’s property\, Cape Schanck\, Cape Schanck\, Victoria\, 3939\, Australia
CATEGORIES:Other Events
END:VEVENT
BEGIN:VEVENT
DTSTART;TZID=Australia/Melbourne:20130129T180000
DTEND;TZID=Australia/Melbourne:20130129T200000
DTSTAMP:20260421T215423
CREATED:20130115T035050Z
LAST-MODIFIED:20130115T035050Z
UID:546-1359482400-1359489600@mordiallocrotary.org.au
SUMMARY:Club Meeting
DESCRIPTION:Topic: Kingston City Youth Services
URL:https://mordiallocrotary.org.au/event/club-meeting-3/
LOCATION:Mordialloc Sporting Club\, Select a Country:
CATEGORIES:Weekly meetings
END:VEVENT
BEGIN:VEVENT
DTSTART;TZID=Australia/Melbourne:20130126T100000
DTEND;TZID=Australia/Melbourne:20130126T160000
DTSTAMP:20260421T215423
CREATED:20130115T035944Z
LAST-MODIFIED:20130115T035944Z
UID:548-1359194400-1359216000@mordiallocrotary.org.au
SUMMARY:Victorian Gnome Festival
DESCRIPTION:
URL:https://mordiallocrotary.org.au/event/victorian-gnome-festival/
LOCATION:Peter Scullin Reserve\, Beach Road\, Mordialloc\, Victoria\, 3195\, Australia
CATEGORIES:Other Events
END:VEVENT
BEGIN:VEVENT
DTSTART;TZID=Australia/Melbourne:20130122T180000
DTEND;TZID=Australia/Melbourne:20130122T200000
DTSTAMP:20260421T215423
CREATED:20130115T034932Z
LAST-MODIFIED:20130115T034932Z
UID:545-1358877600-1358884800@mordiallocrotary.org.au
SUMMARY:Club meeting
DESCRIPTION:Topic: Berry Street
URL:https://mordiallocrotary.org.au/event/club-meeting-2/
LOCATION:Mordialloc Sporting Club\, Select a Country:
CATEGORIES:Weekly meetings
END:VEVENT
BEGIN:VEVENT
DTSTART;TZID=Australia/Melbourne:20130115T180000
DTEND;TZID=Australia/Melbourne:20130115T200000
DTSTAMP:20260421T215423
CREATED:20130115T034709Z
LAST-MODIFIED:20130115T034709Z
UID:544-1358272800-1358280000@mordiallocrotary.org.au
SUMMARY:Club meeting
DESCRIPTION:Briefing on Gnome Festival
URL:https://mordiallocrotary.org.au/event/club-meeting/
LOCATION:Mordialloc Sporting Club\, Select a Country:
CATEGORIES:Weekly meetings
END:VEVENT
BEGIN:VEVENT
DTSTART;TZID=Australia/Melbourne:20121118T090000
DTEND;TZID=Australia/Melbourne:20121118T150059
DTSTAMP:20260421T215423
CREATED:20120806T042012Z
LAST-MODIFIED:20120806T042012Z
UID:399-1353229200-1353250859@mordiallocrotary.org.au
SUMMARY:SIDS Walk for Remembrance around Albert Park Lake
DESCRIPTION:The Rotary Club of Mordialloc assists Sudden Infant Death Victoria with the running of the annual Walk for Remembrance around Albert Park Lake. The club will provide a barbeque lunch and refereshments for participants
URL:https://mordiallocrotary.org.au/event/sids-walk-for-remembrance-around-albert-park-lake/
LOCATION:Albert Park Lake\, off Albert Road\, Albert Park\, Victoria\, Australia
CATEGORIES:Other Events
END:VEVENT
BEGIN:VEVENT
DTSTART;TZID=Australia/Melbourne:20120923T143000
DTEND;TZID=Australia/Melbourne:20120923T170059
DTSTAMP:20260421T215423
CREATED:20120827T054759Z
LAST-MODIFIED:20120827T054759Z
UID:424-1348410600-1348419659@mordiallocrotary.org.au
SUMMARY:High Tea Party
DESCRIPTION:
URL:https://mordiallocrotary.org.au/event/high-tea-party/
LOCATION:Jack and Kathy Pyziakos house\, 51 Marina Road\, Mentone\, Victoria\, 3194\, Australia
CATEGORIES:Other Events
END:VEVENT
BEGIN:VEVENT
DTSTART;TZID=Australia/Melbourne:20120911T180000
DTEND;TZID=Australia/Melbourne:20120911T200059
DTSTAMP:20260421T215423
CREATED:20120705T015658Z
LAST-MODIFIED:20120705T015658Z
UID:319-1347386400-1347393659@mordiallocrotary.org.au
SUMMARY:Club meeting
DESCRIPTION:Speaker: Richard Tullberg\, Assistant Manager\, Woodlands Golf Club
URL:https://mordiallocrotary.org.au/event/club-meeting-11/
LOCATION:Mordialloc Sporting Club\, Select a Country:
CATEGORIES:Weekly meetings
END:VEVENT
BEGIN:VEVENT
DTSTART;VALUE=DATE:20120907
DTEND;VALUE=DATE:20120908
DTSTAMP:20260421T215423
CREATED:20120621T045755Z
LAST-MODIFIED:20120621T045755Z
UID:186-1346976000-1347062399@mordiallocrotary.org.au
SUMMARY:Golf Day - Kingston Charitable Fund
DESCRIPTION:
URL:https://mordiallocrotary.org.au/event/golf-day-kingston-charitable-fund/
LOCATION:Woodlands Golf Club\, White Street\, Mordialloc\, 3195\, Select a Country:
CATEGORIES:Other Events
END:VEVENT
BEGIN:VEVENT
DTSTART;TZID=Australia/Melbourne:20120904T180000
DTEND;TZID=Australia/Melbourne:20120904T200059
DTSTAMP:20260421T215423
CREATED:20120705T015536Z
LAST-MODIFIED:20120705T015536Z
UID:318-1346781600-1346788859@mordiallocrotary.org.au
SUMMARY:Club meeting
DESCRIPTION:District Governor\, Brian Martin.  Official Club Visit
URL:https://mordiallocrotary.org.au/event/club-meeting-10/
LOCATION:Mordialloc Sporting Club\, Select a Country:
CATEGORIES:Weekly meetings
END:VEVENT
BEGIN:VEVENT
DTSTART;TZID=Australia/Melbourne:20120828T180000
DTEND;TZID=Australia/Melbourne:20120828T200059
DTSTAMP:20260421T215423
CREATED:20120705T015402Z
LAST-MODIFIED:20120705T015402Z
UID:317-1346176800-1346184059@mordiallocrotary.org.au
SUMMARY:Club meeting
DESCRIPTION:Speaker: John Xiao – Chinese Culture and Art
URL:https://mordiallocrotary.org.au/event/club-meeting-9/
LOCATION:Mordialloc Sporting Club\, Select a Country:
CATEGORIES:Weekly meetings
END:VEVENT
BEGIN:VEVENT
DTSTART;TZID=Australia/Melbourne:20120822T190000
DTEND;TZID=Australia/Melbourne:20120822T220059
DTSTAMP:20260421T215423
CREATED:20120730T095141Z
LAST-MODIFIED:20120730T095313Z
UID:388-1345662000-1345672859@mordiallocrotary.org.au
SUMMARY:Club Fellowship Dinner
DESCRIPTION:Two course dinner for $30 plus drinks
URL:https://mordiallocrotary.org.au/event/club-fellowship-dinner/
LOCATION:Ficelle Restaurant\, 196 Como Pde West\, Parkdale\, Victoria\, Australia
CATEGORIES:Other Events
END:VEVENT
BEGIN:VEVENT
DTSTART;TZID=Australia/Melbourne:20120821T180000
DTEND;TZID=Australia/Melbourne:20120821T200059
DTSTAMP:20260421T215423
CREATED:20120705T015225Z
LAST-MODIFIED:20120705T015234Z
UID:316-1345572000-1345579259@mordiallocrotary.org.au
SUMMARY:Club meeting
DESCRIPTION:Speaker: Leon Moore and a hearing impaired choir
URL:https://mordiallocrotary.org.au/event/club-meeting-8/
LOCATION:Mordialloc Sporting Club\, Select a Country:
CATEGORIES:Weekly meetings
END:VEVENT
BEGIN:VEVENT
DTSTART;TZID=Australia/Melbourne:20120814T180000
DTEND;TZID=Australia/Melbourne:20120814T200059
DTSTAMP:20260421T215423
CREATED:20120705T015047Z
LAST-MODIFIED:20120730T093730Z
UID:315-1344967200-1344974459@mordiallocrotary.org.au
SUMMARY:Club meeting
DESCRIPTION:Speaker Stuart Bryce – Shaggy Ridge 70 years on
URL:https://mordiallocrotary.org.au/event/club-meeting-7/
LOCATION:Mordialloc Sporting Club\, Select a Country:
CATEGORIES:Weekly meetings
END:VEVENT
BEGIN:VEVENT
DTSTART;VALUE=DATE:20120814
DTEND;VALUE=DATE:20120820
DTSTAMP:20260421T215423
CREATED:20120628T043955Z
LAST-MODIFIED:20120705T020041Z
UID:271-1344902400-1345420799@mordiallocrotary.org.au
SUMMARY:Rotary Club of Mordialloc Annual Art Show
DESCRIPTION:For detailed information about the 2012 Art Show: click here
URL:https://mordiallocrotary.org.au/event/rotary-club-mordialloc-annual-art-show/
LOCATION:Westfield Southland Shopping Centre\, Nepean Highway\, Cheltenham\, Select a Country:
CATEGORIES:Other Events
END:VEVENT
BEGIN:VEVENT
DTSTART;TZID=Australia/Melbourne:20120813T190000
DTEND;TZID=Australia/Melbourne:20120813T210059
DTSTAMP:20260421T215423
CREATED:20120705T020637Z
LAST-MODIFIED:20120705T020637Z
UID:322-1344884400-1344891659@mordiallocrotary.org.au
SUMMARY:Art Show - Delivery of Paintings by Artists
DESCRIPTION:Artists to deliver paintings to Southland \nEnter by Chesterville Road entrance only
URL:https://mordiallocrotary.org.au/event/art-show-delivery-of-paintings-by-artists/
LOCATION:Westfield Southland Shopping Centre\, Nepean Highway\, Cheltenham\, Select a Country:
CATEGORIES:Other Events
END:VEVENT
BEGIN:VEVENT
DTSTART;TZID=Australia/Melbourne:20120813T173000
DTEND;TZID=Australia/Melbourne:20120813T210059
DTSTAMP:20260421T215423
CREATED:20120621T045215Z
LAST-MODIFIED:20120705T020504Z
UID:183-1344879000-1344891659@mordiallocrotary.org.au
SUMMARY:Annual Art Show set up
DESCRIPTION:Members required to set up display stands and hang paintings when delivered
URL:https://mordiallocrotary.org.au/event/annual-art-show/
LOCATION:Westfield Southland Shopping Centre\, Nepean Highway\, Cheltenham\, Select a Country:
CATEGORIES:Other Events
END:VEVENT
BEGIN:VEVENT
DTSTART;TZID=Australia/Melbourne:20120807T180000
DTEND;TZID=Australia/Melbourne:20120807T200059
DTSTAMP:20260421T215423
CREATED:20120705T014922Z
LAST-MODIFIED:20120730T093557Z
UID:314-1344362400-1344369659@mordiallocrotary.org.au
SUMMARY:Club Meeting
DESCRIPTION:Briefing session for Art Show lead by Jeff Needham
URL:https://mordiallocrotary.org.au/event/club-meeting-6/
LOCATION:Mordialloc Sporting Club\, Select a Country:
CATEGORIES:Weekly meetings
END:VEVENT
END:VCALENDAR