BEGIN:VCALENDAR
VERSION:2.0
PRODID:-//Rotary Club of Mordialloc Mentone - ECPv6.15.20//NONSGML v1.0//EN
CALSCALE:GREGORIAN
METHOD:PUBLISH
X-ORIGINAL-URL:https://mordiallocrotary.org.au
X-WR-CALDESC:Events for Rotary Club of Mordialloc Mentone
REFRESH-INTERVAL;VALUE=DURATION:PT1H
X-Robots-Tag:noindex
X-PUBLISHED-TTL:PT1H
BEGIN:VTIMEZONE
TZID:Australia/Melbourne
BEGIN:STANDARD
TZOFFSETFROM:+1100
TZOFFSETTO:+1000
TZNAME:AEST
DTSTART:20110402T160000
END:STANDARD
BEGIN:DAYLIGHT
TZOFFSETFROM:+1000
TZOFFSETTO:+1100
TZNAME:AEDT
DTSTART:20111001T160000
END:DAYLIGHT
BEGIN:STANDARD
TZOFFSETFROM:+1100
TZOFFSETTO:+1000
TZNAME:AEST
DTSTART:20120331T160000
END:STANDARD
BEGIN:DAYLIGHT
TZOFFSETFROM:+1000
TZOFFSETTO:+1100
TZNAME:AEDT
DTSTART:20121006T160000
END:DAYLIGHT
BEGIN:STANDARD
TZOFFSETFROM:+1100
TZOFFSETTO:+1000
TZNAME:AEST
DTSTART:20130406T160000
END:STANDARD
BEGIN:DAYLIGHT
TZOFFSETFROM:+1000
TZOFFSETTO:+1100
TZNAME:AEDT
DTSTART:20131005T160000
END:DAYLIGHT
END:VTIMEZONE
BEGIN:VEVENT
DTSTART;TZID=Australia/Melbourne:20120731T180000
DTEND;TZID=Australia/Melbourne:20120731T200059
DTSTAMP:20260422T030859
CREATED:20120705T014816Z
LAST-MODIFIED:20120730T093515Z
UID:313-1343757600-1343764859@mordiallocrotary.org.au
SUMMARY:Club meeting
DESCRIPTION:Speaker on Domestic Violence – Rosemary Barca
URL:https://mordiallocrotary.org.au/event/club-meeting-5/
LOCATION:Mordialloc Sporting Club\, Select a Country:
CATEGORIES:Weekly meetings
END:VEVENT
END:VCALENDAR